BEGIN:VCALENDAR
VERSION:2.0
PRODID:-//The FinTech Center - ECPv6.15.20//NONSGML v1.0//EN
CALSCALE:GREGORIAN
METHOD:PUBLISH
X-WR-CALNAME:The FinTech Center
X-ORIGINAL-URL:https://fintech.morgan.edu
X-WR-CALDESC:Events for The FinTech Center
REFRESH-INTERVAL;VALUE=DURATION:PT1H
X-Robots-Tag:noindex
X-PUBLISHED-TTL:PT1H
BEGIN:VTIMEZONE
TZID:America/New_York
BEGIN:DAYLIGHT
TZOFFSETFROM:-0500
TZOFFSETTO:-0400
TZNAME:EDT
DTSTART:20240310T070000
END:DAYLIGHT
BEGIN:STANDARD
TZOFFSETFROM:-0400
TZOFFSETTO:-0500
TZNAME:EST
DTSTART:20241103T060000
END:STANDARD
BEGIN:DAYLIGHT
TZOFFSETFROM:-0500
TZOFFSETTO:-0400
TZNAME:EDT
DTSTART:20250309T070000
END:DAYLIGHT
BEGIN:STANDARD
TZOFFSETFROM:-0400
TZOFFSETTO:-0500
TZNAME:EST
DTSTART:20251102T060000
END:STANDARD
BEGIN:DAYLIGHT
TZOFFSETFROM:-0500
TZOFFSETTO:-0400
TZNAME:EDT
DTSTART:20260308T070000
END:DAYLIGHT
BEGIN:STANDARD
TZOFFSETFROM:-0400
TZOFFSETTO:-0500
TZNAME:EST
DTSTART:20261101T060000
END:STANDARD
BEGIN:DAYLIGHT
TZOFFSETFROM:-0500
TZOFFSETTO:-0400
TZNAME:EDT
DTSTART:20270314T070000
END:DAYLIGHT
BEGIN:STANDARD
TZOFFSETFROM:-0400
TZOFFSETTO:-0500
TZNAME:EST
DTSTART:20271107T060000
END:STANDARD
END:VTIMEZONE
BEGIN:VEVENT
DTSTART;VALUE=DATE:20250919
DTEND;VALUE=DATE:20250921
DTSTAMP:20260424T015015
CREATED:20250516T201408Z
LAST-MODIFIED:20250602T154534Z
UID:17608-1758240000-1758412799@fintech.morgan.edu
SUMMARY:The 6th ANNUAL NATIONAL HBCU BLOCKCHAIN\, FINTECH\, AND AI CONFERENCE
DESCRIPTION:The National Center for the Study of Blockchain and FinTech at The Graves Business School is pleased to announce\n\n\n\n\nSubmission Guidelines\n\n\n\n\n\nThe 6th ANNUAL\nNATIONAL HBCU BLOCKCHAIN\, FINTECH\, AND AI CONFERENCE\n\n\n\n\n\n6th Annual National HBCU Blockchain\, FinTech\, and AI Conference Hosted by the Willie A. Deese College of Business and Economics\, North Carolina A&T State University\n\n\n\n\n\nWe invite scholars\, researchers\, practitioners\, and graduate students to submit original\nwork for presentation at the 6th Annual National HBCU Blockchain\, FinTech\, and AI\nConference. This peer-reviewed conference brings together thought leaders exploring the\ntransformative impact of blockchain\, financial technology\, artificial intelligence\, and their\nconvergence with education\, policy\, and innovation.\nConference Details\n• Conference Dates: September 19–20\, 2025\n• Location: North Carolina A&T State University\, Greensboro\, NC\n\n\n\n\n\n\n• Submission Deadline: Friday\, July 1\, 2025\, by 11:59 PM EST\n• Notification of Acceptance: By July 15\, 2025\n  \n\n\n\n\n\n\n1. Types of Submissions\nWe welcome the following submission types: \nA. Full Papers \n\nPurpose: Empirical or conceptual research with complete findings\nLength: 15–30 pages (including all references\, tables\, and figures)\nRequired Sections:\n\n\n Title Page (title\, author(s)\, affiliations\, contact information)\n Abstract (150–250 words)\n Introduction\n Literature Review\n Methodology\n Results / Findings\n Discussion\n Conclusion\n References (APA 7 format)\n Appendices (if applicable)\n Tables and Figures (labeled and referenced)\n\nB. Extended Abstracts \n\nPurpose: Research-in-progress or early-stage studies\n Length: 1\,500-2000 words (about 3-4 pages\, excluding references)\nRequired Elements:\no Title\no Author(s) and Affiliation(s)\no Research Objective or Question\no Brief Theoretical Framework\no Methodological Approach\no Preliminary or Anticipated Findings\no Relevance and Contribution\no References (APA format\, minimum of 3)\n\nC. Workshop Proposals \n\nPurpose: Conceptual\, pedagogical\, or industry-based sessions aligned with the conference theme\nLength: 800-1000 words (about 2 pages\, 1.5 spaced)\nRequired Elements:\n\no Proposal Title\no Author(s) and Affiliation(s)\no Problem Statement or Topic Focus\no Proposed Session Structure or Concept\no Intended Contribution\no Relevance to Blockchain\, FinTech\, AI\, or Interdisciplinary Innovation \n2. Formatting Requirements \n\nAccepted File Types: Microsoft Word (.docx) or PDF (.pdf)\nFont: Times New Roman\, 12 pt\nSpacing: 1.5 spaced\nMargins: 1 inch on all sides\nStyle Guide: APA 7th Edition\n\n3. File Naming Convention\nUse the following naming format:\nName your file using the following format:\nLastName_FirstName_HBCU2025Submission.pdf\nExample: Taylor_Alex_HBCU2025Submission.docx \n4. Submission Portal\nAll submissions must be uploaded through the official Google Form submission portal: \nhttps://forms.gle/Z7R5M9HEZvyHcELH9 \n(If needed\, contact Dr. Okafor for assistance)\n5. Review Process\n All submissions will be peer-reviewed by a multidisciplinary review committee.\n Notifications of acceptance will be sent by July 15\, 2025.\n Accepted authors must register for the conference and present their work in person. \n6. Conference Tracks \nAlign your submission with one of the following thematic tracks:\n1. Finance\, Markets\, and Business Applications\n2. Technology\, Infrastructure\, and Security\n3. Computational Systems\, Modeling\, and Engineering Innovation\n4. Sustainability\, Ethics\, and Regulation\n5. Education and Pedagogy\n6. Creativity\, Culture\, and Interdisciplinary Innovation \n7. Questions or Support?\nPlease contact the Conference Planning Committee:\nConference Co-Chair:\nDr. Collins E. Okafor\, Ph.D.\nEmail: ceokafor@ncat.edu\nConference Chair:\nDr. Ali Emdad\, Ph.D.\nEmail: Ali.Emdad@morgan.edu
URL:https://fintech.morgan.edu/event/the-6th-annual-national-hbcu-blockchain-fintech-and-ai-conference/
END:VEVENT
BEGIN:VEVENT
DTSTART;TZID=America/New_York:20260429T120000
DTEND;TZID=America/New_York:20260429T130000
DTSTAMP:20260424T015015
CREATED:20260423T173049Z
LAST-MODIFIED:20260423T210117Z
UID:29544-1777464000-1777467600@fintech.morgan.edu
SUMMARY:Cryptocurrency Policy Webinar with Coinbase
DESCRIPTION:  \n\n\nJoin Coinbase experts for a discussion on the evolving policy and regulatory landscape of cryptocurrency and digital assets. This panel will explore how blockchain technology is shaping the future of finance\, current regulatory challenges\, and what these developments mean for innovation\, investors\, and the broader financial system.
URL:https://fintech.morgan.edu/event/cryptocurrency-policy-webinar-with-coinbase/
ATTACH;FMTTYPE=image/png:https://fintech.morgan.edu/wp-content/uploads/Crypto-Policy-Webinar-Graphic.png
ORGANIZER;CN="The Fintech Center":MAILTO:amanda.ihegbe@morgan.edu
END:VEVENT
BEGIN:VEVENT
DTSTART;TZID=America/New_York:20261108T080000
DTEND;TZID=America/New_York:20261110T170000
DTSTAMP:20260424T015015
CREATED:20260423T173706Z
LAST-MODIFIED:20260423T210203Z
UID:29547-1794124800-1794330000@fintech.morgan.edu
SUMMARY:The 7th ANNUAL NATIONAL HBCU BLOCKCHAIN\, FINTECH\, AND AI CONFERENCE
DESCRIPTION:2026 CONFERENCE THEME: Engineering Trust: Scalable\, Intelligent\, and Secure Financial Systems with Blockchain and AI \nThe National FinTech Center launched its inaugural summit in Baltimore\, bringing together representatives from 34 HBCUs for a landmark convening. With the onset of the COVID-19 pandemic\, the Center transitioned to virtual platforms in 2020 and 2021\, engaging faculty delegates and student ambassadors from 65 HBCUs nationwide. From 2022 through 2025\, the Center resumed in-person conferences\, hosting them in Orlando\, Baltimore\, Atlanta\, and Greensboro\, further expanding its national reach and impact. \nNow in its 7th year\, the National HBCU Blockchain\, FinTech\, and AI Conference has evolved into one of the premier forums for research at the intersection of financial technology\, blockchain\, digital assets\, and artificial intelligence. The conference brings together scholars\, engineers\,\neconomists\, and policymakers to advance rigorous\, real-world solutions for next-generation financial ecosystems\, with a distinctive commitment to HBCU communities\, equitable innovation\, and workforce development.
URL:https://fintech.morgan.edu/event/the-7th-annual-national-hbcu-blockchain-fintech-and-ai-conference/
LOCATION:Margaritaville Hotel Nashville\, 425 Rep. John Lewis Way S\, Nashville\, TN\, 37203\, United States
ATTACH;FMTTYPE=image/png:https://fintech.morgan.edu/wp-content/uploads/2026-Conference-Graphic.png
ORGANIZER;CN="The Fintech Center":MAILTO:amanda.ihegbe@morgan.edu
END:VEVENT
END:VCALENDAR