BEGIN:VCALENDAR
VERSION:2.0
PRODID:-//The FinTech Center - ECPv6.15.20//NONSGML v1.0//EN
CALSCALE:GREGORIAN
METHOD:PUBLISH
X-WR-CALNAME:The FinTech Center
X-ORIGINAL-URL:https://fintech.morgan.edu
X-WR-CALDESC:Events for The FinTech Center
REFRESH-INTERVAL;VALUE=DURATION:PT1H
X-Robots-Tag:noindex
X-PUBLISHED-TTL:PT1H
BEGIN:VTIMEZONE
TZID:America/New_York
BEGIN:DAYLIGHT
TZOFFSETFROM:-0500
TZOFFSETTO:-0400
TZNAME:EDT
DTSTART:20220313T070000
END:DAYLIGHT
BEGIN:STANDARD
TZOFFSETFROM:-0400
TZOFFSETTO:-0500
TZNAME:EST
DTSTART:20221106T060000
END:STANDARD
BEGIN:DAYLIGHT
TZOFFSETFROM:-0500
TZOFFSETTO:-0400
TZNAME:EDT
DTSTART:20230312T070000
END:DAYLIGHT
BEGIN:STANDARD
TZOFFSETFROM:-0400
TZOFFSETTO:-0500
TZNAME:EST
DTSTART:20231105T060000
END:STANDARD
BEGIN:DAYLIGHT
TZOFFSETFROM:-0500
TZOFFSETTO:-0400
TZNAME:EDT
DTSTART:20240310T070000
END:DAYLIGHT
BEGIN:STANDARD
TZOFFSETFROM:-0400
TZOFFSETTO:-0500
TZNAME:EST
DTSTART:20241103T060000
END:STANDARD
BEGIN:DAYLIGHT
TZOFFSETFROM:-0500
TZOFFSETTO:-0400
TZNAME:EDT
DTSTART:20250309T070000
END:DAYLIGHT
BEGIN:STANDARD
TZOFFSETFROM:-0400
TZOFFSETTO:-0500
TZNAME:EST
DTSTART:20251102T060000
END:STANDARD
END:VTIMEZONE
BEGIN:VEVENT
DTSTART;TZID=America/New_York:20230907T080000
DTEND;TZID=America/New_York:20230907T090000
DTSTAMP:20260422T203204
CREATED:20230818T113543Z
LAST-MODIFIED:20230818T113543Z
UID:4030-1694073600-1694077200@fintech.morgan.edu
SUMMARY:Decentralization and Privacy on Blockchain: the Basics
DESCRIPTION:REGISTER IN ADVANCE\nTitle: Decentralization and Privacy on Blockchain: the Basics \nWhen: Thursday\, September 7\, 2023 – 12Noon ET \nPresenter: \nHart Montgomery\, CTO\, Hyperledger Foundation \nSeminar Goals: \n\nHow decentralization is at the core of blockchain\, what it means for security\, the blockchain trilemma\, and how to make sure you “get decentralization right” in blockchain.\nWhy privacy and confidentiality are necessary on a blockchain\, what are some techniques we can use to achieve privacy and confidentiality\, and how we should think about them.\n\nSeminar Recording: \nSeminar Presentation Deck: \nQuick Links: \nMorgan State Fintech Center: https://fintech.morgan.edu/augbackup/ \nHyperledger Wiki:  https://wiki.hyperledger.org/ \nThanks to Morgan State Fintech Center for organizing these Seminars. \nhttps://fintech.morgan.edu/augbackup/ \nHyperledger Code of Conduct\nhttps://toc.hyperledger.org/governing-documents/code-of-conduct.html \nTo find out more about Hyperledger\, please check out our\nWebsite: https://www.hyperledger.org/\nWiki: https://wiki.hyperledger.org/\nGitHub: https://github.com/hyperledger\nYouTube: https://www.youtube.com/@Hyperledger\nDiscord: https://discord.gg/hyperledger\n#morgan-state-seminars: https://discord.com/channels/905194001349627914/1077628668794380369
URL:https://fintech.morgan.edu/event/decentralization-and-privacy-on-blockchain-the-basics/
CATEGORIES:Event
ORGANIZER;CN="The Fintech Center":MAILTO:tyneissa.walters@morgan.edu
END:VEVENT
BEGIN:VEVENT
DTSTART;TZID=America/New_York:20231010T080000
DTEND;TZID=America/New_York:20231010T090000
DTSTAMP:20260422T203204
CREATED:20230926T121409Z
LAST-MODIFIED:20231003T163140Z
UID:4039-1696924800-1696928400@fintech.morgan.edu
SUMMARY:WEB3: Smart Contracts and Use Cases
DESCRIPTION:WEB3: Smart Contracts and Use Cases\nThe National FinTech Center at Morgan State University and AON invite HBCU faculty\, students\, and alumni to attend WEB3: Smart Contracts and Use Cases will be a virtual panel discussion on Tuesday\, October 10\, 2023\, from 12:00-1:00 pm ET. \nThe panel will feature members of AON’s Growth Ventures team. You don’t want to miss this panel discussion and interactive Q& A session following the panel. \nREGISTER IN ADVANCE \nYou will receive a unique link to join the event. There is no charge\, but advance registration is required. \nMeet the Speakers \nPhilip Rage is a Director within Aon’s Growth Ventures Strategy team –  prior to joining Aon six months ago Phil started off his career at a small independent insurance brokers specializing in hedge funds and investment managers before moving to work as an Underwriter at large US Insurance Company and at a Lloyds of London Syndicate and then onto run the financial Institutions team at the worlds largest  international underwriting agencies. \n  \nTrey Buckingham is a Strategy Analyst with Aon Growth Ventures\, Aon’s net-new innovation function focused on investing ahead of revenue for new solutions and capabilities tailored to large unmet client needs. Before joining Aon Growth Ventures in January 2023\, Trey was an Account Executive with Aon’s Large Market account team where he was responsible for managing some of Aon’s largest client relationships. He also worked as a Sales & Operations Analyst and played a key role in the continued development of Aon’s Industry Practice Groups. Prior to joining Aon\, Trey earned a Bachelor of Science degree in Finance from Miami University’s Farmer School of Business.
URL:https://fintech.morgan.edu/event/web3-smart-contracts-and-use-cases/
CATEGORIES:Event
ORGANIZER;CN="The Fintech Center":MAILTO:tyneissa.walters@morgan.edu
END:VEVENT
BEGIN:VEVENT
DTSTART;TZID=America/New_York:20240220T070000
DTEND;TZID=America/New_York:20240220T080000
DTSTAMP:20260422T203204
CREATED:20240205T132618Z
LAST-MODIFIED:20240220T194153Z
UID:4078-1708412400-1708416000@fintech.morgan.edu
SUMMARY:FinTech for Financial Inclusion: Empowering the Unbanked and Underbanked
DESCRIPTION:WATCH THE SESSION HERE\nJoin Cross River’s Afolabi Ogunnaike\, Strategic Initiatives Director\, and Marcarena Valdez\, Senior Business Development Lead for Cards & Accounts for our upcoming webinar\, “FinTech for Financial Inclusion: Empowering the Unbanked and Underbanked.” Afolabi and Macarena will explore innovative FinTech solutions bridging gaps in financial access. Discover how technology transforms banking for marginalized communities\, fostering economic empowerment and inclusion. Don’t miss the insights that can shape a more inclusive financial landscape. \nMEET THE SPEAKERS\n \nAfolabi Ogunnaike is the Director of Strategic Initiatives at Cross River. He leads teams to execute enterprise-wide projects that enhance the bank’s performance. He previously was part of the Business Strategy &Operations team focused on building a suite of Digital Assets products. \nEarlier in his career\, Afolabi held strategy roles at McKinsey & Company and USAA. He started his career as a chemical engineer and holds degrees from Cornell University and the University of Texas at Austin. \n  \n \nMacarena Valdez is Senior Business Development Lead for Cards & Accounts at Cross River. Macarena began her Cross River journey in March 2022 and has been instrumental in leading all business development efforts for Card Issuing and Deposit Accounts. Prior to joining Cross River\, Macarena was at TMX Finance where she held positions from General Manager to District Director of Operations. \nAt Cross River\, Macarena played a pivotal role as the business development lead on the development of a secured card designed to assist cardholders in building credit. Additionally\, Macarena led Relationship Sales Training and Product Sales Enablement for her region at TMX Finance and is an alumna of Our Lady of the Lake University. \n  \n 
URL:https://fintech.morgan.edu/event/fintech-for-financial-inclusion-empowering-the-unbanked-and-underbanked/
CATEGORIES:Event
ORGANIZER;CN="The Fintech Center":MAILTO:tyneissa.walters@morgan.edu
END:VEVENT
BEGIN:VEVENT
DTSTART;TZID=America/New_York:20240909T120000
DTEND;TZID=America/New_York:20240909T130000
DTSTAMP:20260422T203204
CREATED:20240819T130830Z
LAST-MODIFIED:20240819T151654Z
UID:4169-1725883200-1725886800@fintech.morgan.edu
SUMMARY:How to Get a Job in Web3
DESCRIPTION:Title: How to Get a Job in Web3 \nWhen: Monday September 9\, 2024 at 9am PT\, Noon ET \nPresenter: \nJohn Carpenter\, Ultra Commerce \nJim Mason\, Sky Web Team \nZoom Link:  \nhttps://zoom.us/j/94136984241 \nSeminar Goals: \n\nPresentation/discussion/Q&A\nUnderstanding the kinds of roles and careers that are available in the Web3 space\n\nSeminar Recording: \nTBD \nSeminar Presentation Deck: \nTBD \nQuick Links: \nMorgan State Fintech Center: https://fintech.morgan.edu/augbackup/ \nHyperledger Wiki:  https://wiki.hyperledger.org/ \nThanks to Morgan State Fintech Center for organizing these Seminars. \nhttps://fintech.morgan.edu/augbackup/ \nHyperledger Code of Conduct\nhttps://toc.hyperledger.org/governing-documents/code-of-conduct.html \nTo find out more about Hyperledger\, please check out our\nWebsite: https://www.hyperledger.org/\nWiki: https://wiki.hyperledger.org/\nGitHub: https://github.com/hyperledger\nYouTube: https://www.youtube.com/@Hyperledger\nDiscord: https://discord.gg/hyperledger\n#morgan-state-seminars: https://discord.com/channels/905194001349627914/1077628668794380369
URL:https://fintech.morgan.edu/event/how-to-get-a-job-in-web3/
CATEGORIES:Event
ATTACH;FMTTYPE=image/png:https://fintech.morgan.edu/wp-content/uploads/GetAJobWeb3_Jim-John.png
ORGANIZER;CN="The Fintech Center":MAILTO:tyneissa.walters@morgan.edu
END:VEVENT
BEGIN:VEVENT
DTSTART;TZID=America/New_York:20240923T120000
DTEND;TZID=America/New_York:20240923T130000
DTSTAMP:20260422T203204
CREATED:20240819T131010Z
LAST-MODIFIED:20240915T224653Z
UID:4172-1727092800-1727096400@fintech.morgan.edu
SUMMARY:Bitcoin and Ethereum ETFs
DESCRIPTION:Title: Bitcoin and Ethereum ETFs \nWhen: Monday September 23\, 2024 at 9am PT\, Noon ET \nPresenter: \nJames Loperfido\, Kissmetrics \nZoom Link:  \nhttps://zoom.us/j/92808823154 \nSeminar Goals: \n\nPresentation/discussion/Q&A\nBroad overview of how Bitcoin and Ethereum ETFs work and what they mean for the Web3 space\n\nSeminar Recording: \nTBD \nSeminar Presentation Deck: \nTBD \nQuick Links: \nMorgan State Fintech Center: https://fintech.morgan.edu/augbackup/ \nHyperledger Wiki:  https://wiki.hyperledger.org/ \nThanks to Morgan State Fintech Center for organizing these Seminars. \nhttps://fintech.morgan.edu/augbackup/ \nHyperledger Code of Conduct\nhttps://toc.hyperledger.org/governing-documents/code-of-conduct.html \nTo find out more about Hyperledger\, please check out our\nWebsite: https://www.hyperledger.org/\nWiki: https://wiki.hyperledger.org/\nGitHub: https://github.com/hyperledger\nYouTube: https://www.youtube.com/@Hyperledger\nDiscord: https://discord.gg/hyperledger\n#morgan-state-seminars: https://discord.com/channels/905194001349627914/1077628668794380369
URL:https://fintech.morgan.edu/event/bitcoin-and-ethereum-etfs/
CATEGORIES:Event
ATTACH;FMTTYPE=image/png:https://fintech.morgan.edu/wp-content/uploads/bitcoin_eth_ETFs_JamesL.png
ORGANIZER;CN="The Fintech Center":MAILTO:tyneissa.walters@morgan.edu
END:VEVENT
END:VCALENDAR