BEGIN:VCALENDAR
VERSION:2.0
PRODID:-//The FinTech Center - ECPv6.15.20//NONSGML v1.0//EN
CALSCALE:GREGORIAN
METHOD:PUBLISH
X-WR-CALNAME:The FinTech Center
X-ORIGINAL-URL:https://fintech.morgan.edu
X-WR-CALDESC:Events for The FinTech Center
REFRESH-INTERVAL;VALUE=DURATION:PT1H
X-Robots-Tag:noindex
X-PUBLISHED-TTL:PT1H
BEGIN:VTIMEZONE
TZID:America/New_York
BEGIN:DAYLIGHT
TZOFFSETFROM:-0500
TZOFFSETTO:-0400
TZNAME:EDT
DTSTART:20200308T070000
END:DAYLIGHT
BEGIN:STANDARD
TZOFFSETFROM:-0400
TZOFFSETTO:-0500
TZNAME:EST
DTSTART:20201101T060000
END:STANDARD
BEGIN:DAYLIGHT
TZOFFSETFROM:-0500
TZOFFSETTO:-0400
TZNAME:EDT
DTSTART:20210314T070000
END:DAYLIGHT
BEGIN:STANDARD
TZOFFSETFROM:-0400
TZOFFSETTO:-0500
TZNAME:EST
DTSTART:20211107T060000
END:STANDARD
BEGIN:DAYLIGHT
TZOFFSETFROM:-0500
TZOFFSETTO:-0400
TZNAME:EDT
DTSTART:20220313T070000
END:DAYLIGHT
BEGIN:STANDARD
TZOFFSETFROM:-0400
TZOFFSETTO:-0500
TZNAME:EST
DTSTART:20221106T060000
END:STANDARD
END:VTIMEZONE
BEGIN:VEVENT
DTSTART;TZID=America/New_York:20211112T090000
DTEND;TZID=America/New_York:20211113T150000
DTSTAMP:20260422T113852
CREATED:20211013T180609Z
LAST-MODIFIED:20220121T175855Z
UID:3327-1636707600-1636815600@fintech.morgan.edu
SUMMARY:National HBCU Blockchain and FinTech Conference 2021
DESCRIPTION:The Annual National HBCU Blockchain Research and Innovation Conference is the FinTech Center’s premier event for connecting with university leaders\, faculty and students discussing today’s challenges and opportunities\, and shaping the future of FinTech education and research. The Annual National HBCU Blockchain Research and Innovation Conference\, November 12-13\, 2021 will provide a forum for the faculty\, students\, and administrators in the FinTech Center’s HBCU Consortium to hear and discuss the findings of sponsored research and outcomes of sponsored innovative blockchain projects at various HBCUs. \nRegistration is closed. 
URL:https://fintech.morgan.edu/event/national-hbcu-blockchain-and-fintech-conference-2021/
CATEGORIES:Event
ORGANIZER;CN="The Fintech Center":MAILTO:tyneissa.walters@morgan.edu
END:VEVENT
END:VCALENDAR