BEGIN:VCALENDAR
VERSION:2.0
PRODID:-//The FinTech Center - ECPv6.15.20//NONSGML v1.0//EN
CALSCALE:GREGORIAN
METHOD:PUBLISH
X-ORIGINAL-URL:https://fintech.morgan.edu
X-WR-CALDESC:Events for The FinTech Center
REFRESH-INTERVAL;VALUE=DURATION:PT1H
X-Robots-Tag:noindex
X-PUBLISHED-TTL:PT1H
BEGIN:VTIMEZONE
TZID:America/New_York
BEGIN:DAYLIGHT
TZOFFSETFROM:-0500
TZOFFSETTO:-0400
TZNAME:EDT
DTSTART:20220313T070000
END:DAYLIGHT
BEGIN:STANDARD
TZOFFSETFROM:-0400
TZOFFSETTO:-0500
TZNAME:EST
DTSTART:20221106T060000
END:STANDARD
BEGIN:DAYLIGHT
TZOFFSETFROM:-0500
TZOFFSETTO:-0400
TZNAME:EDT
DTSTART:20230312T070000
END:DAYLIGHT
BEGIN:STANDARD
TZOFFSETFROM:-0400
TZOFFSETTO:-0500
TZNAME:EST
DTSTART:20231105T060000
END:STANDARD
BEGIN:DAYLIGHT
TZOFFSETFROM:-0500
TZOFFSETTO:-0400
TZNAME:EDT
DTSTART:20240310T070000
END:DAYLIGHT
BEGIN:STANDARD
TZOFFSETFROM:-0400
TZOFFSETTO:-0500
TZNAME:EST
DTSTART:20241103T060000
END:STANDARD
END:VTIMEZONE
BEGIN:VEVENT
DTSTART;VALUE=DATE:20230130
DTEND;VALUE=DATE:20230404
DTSTAMP:20260420T133310
CREATED:20230131T140050Z
LAST-MODIFIED:20230314T180205Z
UID:3966-1675105200-1680551999@fintech.morgan.edu
SUMMARY:Art + NFT Technology Competition
DESCRIPTION:Submission Deadline: April 3\, 2023 | Announcement of Winners\, April 19\, 2023\nSubmit Your Original Artwork!\n  \nThe National FinTech Center\, in collaboration with the College of Liberal Arts and the School of Architecture\, announce a unique digital art competition for students at Morgan State University. \nHouse of First has offered to create NFTs (non-fungible tokens) from the winning artwork (on a supported blockchain platform). \nGuidelines for Digital Art Design Competition: \n\nMust be a Morgan State University Student\nThe subject of the competition is to depict a) an event\, b) a person or c) an object (a physical item or place\, a building\, groups of buildings\, or an area) that was transformational in the history of Morgan State University. House of First has provided $2\,000 as a prize for the winning artist in each of the three categories.\nEntries should be original designs and must be the work of the student submitting them.\nEntries should be in digital formats\, such as JPEG\, PNG\, or TIFF.\nThe file size should be 631 pixels X 631 pixels.\nOnly one entry per student is allowed.\nEntries must include a title and a brief (100 words or less) explanation of the design and its significance to the history of Morgan State University.\nEntries should be submitted by the deadline specified by the organizer.\nThe NFTs of the winning entries will be auctioned\, and the proceeds will be shared between the artists\, their academic departments\, and the National FinTech Center for Art+Technology projects at Morgan.\nThe National FinTech Center reserves the right to use the winning design for promotional and marketing materials.\nBy submitting an entry\, students agree to the terms and conditions of the competition and allow their artwork to be used for marketing and promotional purposes.\n\nSubmit Your Original Artwork!
URL:https://fintech.morgan.edu/event/art-nft-technology-competition/
CATEGORIES:Event
ORGANIZER;CN="The Fintech Center":MAILTO:tyneissa.walters@morgan.edu
END:VEVENT
END:VCALENDAR