BEGIN:VCALENDAR
VERSION:2.0
PRODID:-//The FinTech Center - ECPv6.15.20//NONSGML v1.0//EN
CALSCALE:GREGORIAN
METHOD:PUBLISH
X-WR-CALNAME:The FinTech Center
X-ORIGINAL-URL:https://fintech.morgan.edu
X-WR-CALDESC:Events for The FinTech Center
REFRESH-INTERVAL;VALUE=DURATION:PT1H
X-Robots-Tag:noindex
X-PUBLISHED-TTL:PT1H
BEGIN:VTIMEZONE
TZID:America/New_York
BEGIN:DAYLIGHT
TZOFFSETFROM:-0500
TZOFFSETTO:-0400
TZNAME:EDT
DTSTART:20200308T070000
END:DAYLIGHT
BEGIN:STANDARD
TZOFFSETFROM:-0400
TZOFFSETTO:-0500
TZNAME:EST
DTSTART:20201101T060000
END:STANDARD
BEGIN:DAYLIGHT
TZOFFSETFROM:-0500
TZOFFSETTO:-0400
TZNAME:EDT
DTSTART:20210314T070000
END:DAYLIGHT
BEGIN:STANDARD
TZOFFSETFROM:-0400
TZOFFSETTO:-0500
TZNAME:EST
DTSTART:20211107T060000
END:STANDARD
BEGIN:DAYLIGHT
TZOFFSETFROM:-0500
TZOFFSETTO:-0400
TZNAME:EDT
DTSTART:20220313T070000
END:DAYLIGHT
BEGIN:STANDARD
TZOFFSETFROM:-0400
TZOFFSETTO:-0500
TZNAME:EST
DTSTART:20221106T060000
END:STANDARD
END:VTIMEZONE
BEGIN:VEVENT
DTSTART;TZID=America/New_York:20210831T120000
DTEND;TZID=America/New_York:20210831T130000
DTSTAMP:20260422T110759
CREATED:20210818T152147Z
LAST-MODIFIED:20220121T180029Z
UID:3243-1630411200-1630414800@fintech.morgan.edu
SUMMARY:Inform the Block with Brian Estes
DESCRIPTION:On August 31\, 2021\, Brian Estes will give a presentation on the background and history of money\, the internet\, and the adaptation of new technologies\, and how this has led us to cryptocurrencies. Who is Brian Estes?  Brian Estes\, CIO and Managing Partner at Off the Chain Capital\, has helped finance\, build\, and mentor 4 blockchain companies whose combined value is over $10B today. Prior to his involvement in blockchain in 2014\, Brian was a leading endowment and foundation asset manager\, ranking in the top 1/10th of 1% of Morningstar asset managers. Brian has his BA from the University of Illinois and MBA with high honors from Washington University. Brian also studied at Cambridge University and the London School of Economics. For fun\, Brian has been an instrument-rated private pilot for 30 years and has over 2100 flight hours. \nAll are welcome to this virtual\, interactive session. Please register in advance. 
URL:https://fintech.morgan.edu/event/inform-the-block-with-brian-estes/
ORGANIZER;CN="The Fintech Center":MAILTO:tyneissa.walters@morgan.edu
END:VEVENT
END:VCALENDAR