BEGIN:VCALENDAR
VERSION:2.0
PRODID:-//The FinTech Center - ECPv6.15.20//NONSGML v1.0//EN
CALSCALE:GREGORIAN
METHOD:PUBLISH
X-WR-CALNAME:The FinTech Center
X-ORIGINAL-URL:https://fintech.morgan.edu
X-WR-CALDESC:Events for The FinTech Center
REFRESH-INTERVAL;VALUE=DURATION:PT1H
X-Robots-Tag:noindex
X-PUBLISHED-TTL:PT1H
BEGIN:VTIMEZONE
TZID:America/New_York
BEGIN:DAYLIGHT
TZOFFSETFROM:-0500
TZOFFSETTO:-0400
TZNAME:EDT
DTSTART:20200308T070000
END:DAYLIGHT
BEGIN:STANDARD
TZOFFSETFROM:-0400
TZOFFSETTO:-0500
TZNAME:EST
DTSTART:20201101T060000
END:STANDARD
BEGIN:DAYLIGHT
TZOFFSETFROM:-0500
TZOFFSETTO:-0400
TZNAME:EDT
DTSTART:20210314T070000
END:DAYLIGHT
BEGIN:STANDARD
TZOFFSETFROM:-0400
TZOFFSETTO:-0500
TZNAME:EST
DTSTART:20211107T060000
END:STANDARD
BEGIN:DAYLIGHT
TZOFFSETFROM:-0500
TZOFFSETTO:-0400
TZNAME:EDT
DTSTART:20220313T070000
END:DAYLIGHT
BEGIN:STANDARD
TZOFFSETFROM:-0400
TZOFFSETTO:-0500
TZNAME:EST
DTSTART:20221106T060000
END:STANDARD
END:VTIMEZONE
BEGIN:VEVENT
DTSTART;TZID=America/New_York:20210413T120000
DTEND;TZID=America/New_York:20210413T130000
DTSTAMP:20260422T113753
CREATED:20210330T161713Z
LAST-MODIFIED:20220121T180234Z
UID:3118-1618315200-1618318800@fintech.morgan.edu
SUMMARY:Why is Assets Tokenization Disrupting Financial Markets?
DESCRIPTION:Register Here!\n\nCatherine Coley is the CEO of Binance.US\, a digital asset marketplace built for easy and secure access to buy\, trade\, and stake digital assets in America. As a seasoned fintech veteran\, Coley comes to Binance.US with combined experience at the crossroads of global capital and cryptocurrency markets. She brings over five years of sales & trading experience from Morgan Stanley Foreign Exchange in Hong Kong and London\, combined with her treasury management and cross-border payments experience\, growing fast-paced global companies like Silicon Valley Bank and Ripple.\nColey holds a BSBA in Global Business and a minor in Asian studies from the University of North Carolina’s Kenan-Flagler Business School. She was a GLOBE scholar\, earning her business degree internationally with selected students from Copenhagen Business School and Chinese University of Hong Kong– and was recently named one of Fortune’s Top 40 under 40.
URL:https://fintech.morgan.edu/event/why-is-assets-tokenization-disrupting-financial-markets/
CATEGORIES:Event
ORGANIZER;CN="The Fintech Center":MAILTO:tyneissa.walters@morgan.edu
END:VEVENT
END:VCALENDAR