BEGIN:VCALENDAR
VERSION:2.0
PRODID:-//The FinTech Center - ECPv6.15.20//NONSGML v1.0//EN
CALSCALE:GREGORIAN
METHOD:PUBLISH
X-WR-CALNAME:The FinTech Center
X-ORIGINAL-URL:https://fintech.morgan.edu
X-WR-CALDESC:Events for The FinTech Center
REFRESH-INTERVAL;VALUE=DURATION:PT1H
X-Robots-Tag:noindex
X-PUBLISHED-TTL:PT1H
BEGIN:VTIMEZONE
TZID:America/New_York
BEGIN:DAYLIGHT
TZOFFSETFROM:-0500
TZOFFSETTO:-0400
TZNAME:EDT
DTSTART:20200308T070000
END:DAYLIGHT
BEGIN:STANDARD
TZOFFSETFROM:-0400
TZOFFSETTO:-0500
TZNAME:EST
DTSTART:20201101T060000
END:STANDARD
BEGIN:DAYLIGHT
TZOFFSETFROM:-0500
TZOFFSETTO:-0400
TZNAME:EDT
DTSTART:20210314T070000
END:DAYLIGHT
BEGIN:STANDARD
TZOFFSETFROM:-0400
TZOFFSETTO:-0500
TZNAME:EST
DTSTART:20211107T060000
END:STANDARD
BEGIN:DAYLIGHT
TZOFFSETFROM:-0500
TZOFFSETTO:-0400
TZNAME:EDT
DTSTART:20220313T070000
END:DAYLIGHT
BEGIN:STANDARD
TZOFFSETFROM:-0400
TZOFFSETTO:-0500
TZNAME:EST
DTSTART:20221106T060000
END:STANDARD
END:VTIMEZONE
BEGIN:VEVENT
DTSTART;TZID=America/New_York:20210408T120000
DTEND;TZID=America/New_York:20210408T130000
DTSTAMP:20260422T113714
CREATED:20210330T161454Z
LAST-MODIFIED:20220121T180256Z
UID:3116-1617883200-1617886800@fintech.morgan.edu
SUMMARY:FinTech’s Role in Building Generational Wealth in the Black Community
DESCRIPTION:Register Here! \nCuy Sheffield is the Head of Crypto at Visa\, leading the global crypto product team within the fintech product organization. Cuy is a fellow at the Visa Economic Empowerment Institute\, a co-chair of the World Economic Forum’s Global Future Council on Cryptocurrencies and a member of the advisory group for the Digital Dollar Project. Before Visa\, Cuy worked on business development and partnerships for TrialPay\, a fintech startup that Visa acquired in 2015. \nWith a career that covers both media and technology\, Donald Hawkins applies a diverse mixture of skills to his role as Founder & Chief Executive Officer of his affinity neobank\, First Boulevard. As a serial entrepreneur\, Donald has a goal of creating companies that truly help the masses.  With First Boulevard\, Donald is empowering members to take control of their money while building positive financial behaviors.
URL:https://fintech.morgan.edu/event/fintechs-role-in-building-generational-wealth-in-the-black-community/
CATEGORIES:Event
ORGANIZER;CN="The Fintech Center":MAILTO:tyneissa.walters@morgan.edu
END:VEVENT
END:VCALENDAR